BEGIN:VCALENDAR
VERSION:2.0
PRODID:SchoolNow
CALSCALE:GREGORIAN
BEGIN:VEVENT
UID:07541e6a-1b52-11e9-913e-12c89bd2ab98
DTSTAMP:20190118T185113Z
SUMMARY:Eagle Select Basketball at Byron Center
URL;VALUE=URI:https://www.hudsonvillepublicschools.org/rileystreet/athletic
 s/calendar/1933116/eagle-select-basketball-at-byron-center
DTSTART:20190313T200000Z
DTEND:20190313T223000Z
END:VEVENT
END:VCALENDAR
