BEGIN:VCALENDAR
VERSION:2.0
PRODID:SchoolNow
CALSCALE:GREGORIAN
BEGIN:VEVENT
UID:07d10e38-1b4e-11e9-afbb-12ca210696e0
DTSTAMP:20190118T182236Z
SUMMARY:Eagle Select Basketball at Grandville
URL;VALUE=URI:https://www.hudsonvillepublicschools.org/rileystreet/athletic
 s/calendar/1933107/eagle-select-basketball-at-grandville
DTSTART:20190311T200000Z
DTEND:20190311T223000Z
END:VEVENT
END:VCALENDAR
