BEGIN:VCALENDAR
VERSION:2.0
PRODID:SchoolNow
CALSCALE:GREGORIAN
BEGIN:VEVENT
UID:cfc4c9f8-1b4d-11e9-9440-129080beb9a6
DTSTAMP:20190118T182102Z
SUMMARY:Eagle Select Basketball vs. West Ottawa at Riley
URL;VALUE=URI:https://www.hudsonvillepublicschools.org/rileystreet/athletic
 s/calendar/1933106/eagle-select-basketball-vs-west-ottawa-at-riley
DTSTART:20190306T210000Z
DTEND:20190306T233000Z
END:VEVENT
END:VCALENDAR
