BEGIN:VCALENDAR
VERSION:2.0
PRODID:SchoolNow
CALSCALE:GREGORIAN
BEGIN:VEVENT
UID:96aa92e2-1b4d-11e9-9388-0a28c10a8e52
DTSTAMP:20190118T181926Z
SUMMARY:Eagle Select Basketball at Holland Christian
URL;VALUE=URI:https://www.hudsonvillepublicschools.org/rileystreet/athletic
 s/calendar/1933103/eagle-select-basketball-at-holland-christian
DTSTART:20190304T210000Z
DTEND:20190304T233000Z
END:VEVENT
END:VCALENDAR
