BEGIN:VCALENDAR
VERSION:2.0
PRODID:SchoolNow
CALSCALE:GREGORIAN
BEGIN:VEVENT
UID:976e0016-1b4c-11e9-b8ef-12a2234a3cc0
DTSTAMP:20190118T181218Z
SUMMARY:Eagle Select Basketball at Holland
URL;VALUE=URI:https://www.hudsonvillepublicschools.org/rileystreet/athletic
 s/calendar/1933102/eagle-select-basketball-at-holland
DTSTART:20190228T210000Z
DTEND:20190228T233000Z
END:VEVENT
END:VCALENDAR
