BEGIN:VCALENDAR
VERSION:2.0
PRODID:SchoolNow
CALSCALE:GREGORIAN
BEGIN:VEVENT
UID:3aad32de-1b4c-11e9-90b1-0ab2a2862324
DTSTAMP:20190118T180942Z
SUMMARY:Eagle Select Basketball vs. Jenison at Baldwin
URL;VALUE=URI:https://www.hudsonvillepublicschools.org/rileystreet/athletic
 s/calendar/1933093/eagle-select-basketball-vs-jenison-at-baldwin
DTSTART:20190220T210000Z
DTEND:20190220T233000Z
END:VEVENT
END:VCALENDAR
