BEGIN:VCALENDAR
VERSION:2.0
PRODID:SchoolNow
CALSCALE:GREGORIAN
BEGIN:VEVENT
UID:84f8c6ce-1b4b-11e9-b892-1281777c5060
DTSTAMP:20190118T180437Z
SUMMARY:Eagle Select Basketball at Fruitport
URL;VALUE=URI:https://www.hudsonvillepublicschools.org/rileystreet/athletic
 s/calendar/1933091/eagle-select-basketball-at-fruitport
DTSTART:20190219T210000Z
DTEND:20190219T233000Z
END:VEVENT
END:VCALENDAR
