BEGIN:VCALENDAR
VERSION:2.0
PRODID:SchoolNow
CALSCALE:GREGORIAN
BEGIN:VEVENT
UID:e3f29088-15d8-11e9-8455-0adec0ee9e62
DTSTAMP:20190111T194129Z
SUMMARY:Eagle Select Girls Basketball vs. Mona Shores at Baldwin
URL;VALUE=URI:https://www.hudsonvillepublicschools.org/rileystreet/athletic
 s/calendar/1930440/eagle-select-girls-basketball-vs-mona-shores-at-baldwin
DTSTART:20190213T210000Z
DTEND:20190213T233000Z
END:VEVENT
END:VCALENDAR
