BEGIN:VCALENDAR
VERSION:2.0
PRODID:SchoolNow
CALSCALE:GREGORIAN
BEGIN:VEVENT
UID:a9a78370-15d8-11e9-9932-12880e2f0610
DTSTAMP:20190111T193951Z
SUMMARY:Eagle Select Basketball vs. Byron Center at Riley
URL;VALUE=URI:https://www.hudsonvillepublicschools.org/rileystreet/athletic
 s/calendar/1930434/eagle-select-basketball-vs-byron-center-at-riley
DTSTART:20190211T210000Z
DTEND:20190211T233000Z
END:VEVENT
END:VCALENDAR
