BEGIN:VCALENDAR
VERSION:2.0
PRODID:SchoolNow
CALSCALE:GREGORIAN
BEGIN:VEVENT
UID:766e4660-15d8-11e9-93c3-0a8694422046
DTSTAMP:20190111T193825Z
SUMMARY:Eagle Select Basketball at West Ottawa
URL;VALUE=URI:https://www.hudsonvillepublicschools.org/rileystreet/athletic
 s/calendar/1930406/eagle-select-basketball-at-west-ottawa
DTSTART:20190207T210000Z
DTEND:20190207T233000Z
END:VEVENT
END:VCALENDAR
