BEGIN:VCALENDAR
VERSION:2.0
PRODID:SchoolNow
CALSCALE:GREGORIAN
BEGIN:VEVENT
UID:7b30134c-15d6-11e9-a4af-0a09c86ef7f8
DTSTAMP:20190111T192414Z
SUMMARY:Eagle Select Basketball vs. Holland Christian at Baldwin
URL;VALUE=URI:https://www.hudsonvillepublicschools.org/rileystreet/athletic
 s/calendar/1930254/eagle-select-basketball-vs-holland-christian-at-baldwin
DTSTART:20190130T210000Z
DTEND:20190130T233000Z
END:VEVENT
END:VCALENDAR
