BEGIN:VCALENDAR
VERSION:2.0
PRODID:SchoolNow
CALSCALE:GREGORIAN
BEGIN:VEVENT
UID:c1bcaa60-15d5-11e9-8fc9-12880e2f0610
DTSTAMP:20190111T191903Z
SUMMARY:Boys Wrestling at Grand Haven Invitational
URL;VALUE=URI:https://www.hudsonvillepublicschools.org/rileystreet/athletic
 s/calendar/1930253/boys-wrestling-at-grand-haven-invitational
DTSTART:20190309T140000Z
DTEND:20190309T180000Z
END:VEVENT
END:VCALENDAR
