BEGIN:VCALENDAR
VERSION:2.0
PRODID:SchoolNow
CALSCALE:GREGORIAN
BEGIN:VEVENT
UID:70e528e2-15d5-11e9-ad02-12774b77f7b0
DTSTAMP:20190111T191647Z
SUMMARY:Boys Wrestling at Zeeland Cityside
URL;VALUE=URI:https://www.hudsonvillepublicschools.org/rileystreet/athletic
 s/calendar/1930252/boys-wrestling-at-zeeland-cityside
DTSTART:20190305T210000Z
DTEND:20190305T230000Z
END:VEVENT
END:VCALENDAR
