BEGIN:VCALENDAR
VERSION:2.0
PRODID:SchoolNow
CALSCALE:GREGORIAN
BEGIN:VEVENT
UID:4194cc32-15d5-11e9-9c34-124e12628650
DTSTAMP:20190111T191528Z
SUMMARY:Boys Wrestling vs. Mona Shores
URL;VALUE=URI:https://www.hudsonvillepublicschools.org/rileystreet/athletic
 s/calendar/1930251/boys-wrestling-vs-mona-shores
DTSTART:20190226T210000Z
DTEND:20190226T230000Z
END:VEVENT
END:VCALENDAR
