BEGIN:VCALENDAR
VERSION:2.0
PRODID:SchoolNow
CALSCALE:GREGORIAN
BEGIN:VEVENT
UID:d9df4cb6-15d4-11e9-ab0a-126e1a63844e
DTSTAMP:20190111T191234Z
SUMMARY:Boys Wrestling vs. Valleywood
URL;VALUE=URI:https://www.hudsonvillepublicschools.org/rileystreet/athletic
 s/calendar/1930250/boys-wrestling-vs-valleywood
DTSTART:20190221T210000Z
DTEND:20190221T230000Z
END:VEVENT
END:VCALENDAR
