BEGIN:VCALENDAR
VERSION:2.0
PRODID:SchoolNow
CALSCALE:GREGORIAN
BEGIN:VEVENT
UID:3f13d5da-15d4-11e9-a9a4-0a8694422046
DTSTAMP:20190111T190814Z
SUMMARY:Boys Wrestling at Grandville
URL;VALUE=URI:https://www.hudsonvillepublicschools.org/rileystreet/athletic
 s/calendar/1930249/boys-wrestling-at-grandville
DTSTART:20190214T210000Z
DTEND:20190214T230000Z
END:VEVENT
END:VCALENDAR
