BEGIN:VCALENDAR
VERSION:2.0
PRODID:SchoolNow
CALSCALE:GREGORIAN
BEGIN:VEVENT
UID:1167a5b2-15d4-11e9-8e0e-126e1a63844e
DTSTAMP:20190111T190658Z
SUMMARY:Boys Wrestling at Crestwood
URL;VALUE=URI:https://www.hudsonvillepublicschools.org/rileystreet/athletic
 s/calendar/1930248/boys-wrestling-at-crestwood
DTSTART:20190212T210000Z
DTEND:20190212T230000Z
END:VEVENT
END:VCALENDAR
