BEGIN:VCALENDAR
VERSION:2.0
PRODID:SchoolNow
CALSCALE:GREGORIAN
BEGIN:VEVENT
UID:908a2a6e-15d3-11e9-9335-0a2053405568
DTSTAMP:20190111T190321Z
SUMMARY:Boys Wrestling at Jenison
URL;VALUE=URI:https://www.hudsonvillepublicschools.org/rileystreet/athletic
 s/calendar/1930247/boys-wrestling-at-jenison
DTSTART:20190207T210000Z
DTEND:20190207T230000Z
END:VEVENT
END:VCALENDAR
