BEGIN:VCALENDAR
VERSION:2.0
PRODID:SchoolNow
CALSCALE:GREGORIAN
BEGIN:VEVENT
UID:f66c6226-15d2-11e9-adac-0a843453f316
DTSTAMP:20190111T190523Z
SUMMARY:Boys Wrestling vs Pinewood
URL;VALUE=URI:https://www.hudsonvillepublicschools.org/rileystreet/athletic
 s/calendar/1930245/boys-wrestling-at-valleywood
DTSTART:20190206T210000Z
DTEND:20190206T230000Z
END:VEVENT
END:VCALENDAR
