BEGIN:VCALENDAR
VERSION:2.0
PRODID:SchoolNow
CALSCALE:GREGORIAN
BEGIN:VEVENT
UID:b0ad60a0-15d2-11e9-8fba-129d18c276b8
DTSTAMP:20190111T190413Z
SUMMARY:Boys Wrestling at Byron Center
URL;VALUE=URI:https://www.hudsonvillepublicschools.org/rileystreet/athletic
 s/calendar/1930244/boys-wrestling-vs-pinewood
DTSTART:20190131T210000Z
DTEND:20190131T230000Z
END:VEVENT
END:VCALENDAR
