BEGIN:VCALENDAR
VERSION:2.0
PRODID:SchoolNow
CALSCALE:GREGORIAN
BEGIN:VEVENT
UID:31f0194c-15d2-11e9-9a7b-12ecf3984bc8
DTSTAMP:20190227T153934Z
SUMMARY:Boys Swim Conference Meet at Grandvile
URL;VALUE=URI:https://www.hudsonvillepublicschools.org/rileystreet/athletic
 s/calendar/1930243/boys-swim-conference-meet-at-grand-haven
DTSTART:20190315T203000Z
DTEND:20190316T000000Z
END:VEVENT
END:VCALENDAR
