BEGIN:VCALENDAR
VERSION:2.0
PRODID:SchoolNow
CALSCALE:GREGORIAN
BEGIN:VEVENT
UID:ae97c22a-15d1-11e9-b3d3-0a8694422046
DTSTAMP:20190111T184953Z
SUMMARY:Boys Swim & Dive at Grandville
URL;VALUE=URI:https://www.hudsonvillepublicschools.org/rileystreet/athletic
 s/calendar/1930241/boys-swim-dive-at-grandville
DTSTART:20190307T210000Z
DTEND:20190307T230000Z
END:VEVENT
END:VCALENDAR
