BEGIN:VCALENDAR
VERSION:2.0
PRODID:SchoolNow
CALSCALE:GREGORIAN
BEGIN:VEVENT
UID:80295e94-15d1-11e9-bf27-0a2053405568
DTSTAMP:20190111T184835Z
SUMMARY:Boys Swim & Dive at Grand Haven
URL;VALUE=URI:https://www.hudsonvillepublicschools.org/rileystreet/athletic
 s/calendar/1930239/boys-swim-dive-at-grand-haven
DTSTART:20190305T210000Z
DTEND:20190305T230000Z
END:VEVENT
END:VCALENDAR
