BEGIN:VCALENDAR
VERSION:2.0
PRODID:SchoolNow
CALSCALE:GREGORIAN
BEGIN:VEVENT
UID:37fc9394-15d0-11e9-9174-12880e2f0610
DTSTAMP:20190111T183924Z
SUMMARY:Boys Swim & Dive vs. Northview
URL;VALUE=URI:https://www.hudsonvillepublicschools.org/rileystreet/athletic
 s/calendar/1930192/boys-swim-dive-vs-northview
DTSTART:20190212T210000Z
DTEND:20190212T230000Z
END:VEVENT
END:VCALENDAR
