BEGIN:VCALENDAR
VERSION:2.0
PRODID:SchoolNow
CALSCALE:GREGORIAN
BEGIN:VEVENT
UID:08ffd4de-15d0-11e9-a5b4-0aa619a90ed2
DTSTAMP:20190111T183805Z
SUMMARY:Boys Swim & Dive vs. Byron Center
URL;VALUE=URI:https://www.hudsonvillepublicschools.org/rileystreet/athletic
 s/calendar/1930190/boys-swim-dive-vs-byron-center
DTSTART:20190211T210000Z
DTEND:20190211T230000Z
END:VEVENT
END:VCALENDAR
