BEGIN:VCALENDAR
VERSION:2.0
PRODID:SchoolNow
CALSCALE:GREGORIAN
BEGIN:VEVENT
UID:9a81c1b6-15cf-11e9-a934-0adec0ee9e62
DTSTAMP:20190111T183500Z
SUMMARY:Boys Swim & Dive at Rockford High
URL;VALUE=URI:https://www.hudsonvillepublicschools.org/rileystreet/athletic
 s/calendar/1930187/boys-swim-dive-at-rockford-high
DTSTART:20190207T210000Z
DTEND:20190207T230000Z
END:VEVENT
END:VCALENDAR
