BEGIN:VCALENDAR
VERSION:2.0
PRODID:SchoolNow
CALSCALE:GREGORIAN
BEGIN:VEVENT
UID:a20a10e2-d866-11e8-a471-0a87fe369050
DTSTAMP:20181025T172415Z
SUMMARY:Girls Swim Conference Meet at Home
URL;VALUE=URI:https://www.hudsonvillepublicschools.org/rileystreet/athletic
 s/calendar/1896825/girls-swim-conference-meet-at-home
DTSTART:20181214T213000Z
DTEND:20181215T020000Z
END:VEVENT
END:VCALENDAR
