BEGIN:VCALENDAR
VERSION:2.0
PRODID:SchoolNow
CALSCALE:GREGORIAN
BEGIN:VEVENT
UID:7b481e18-d866-11e8-9d41-127544b4a598
DTSTAMP:20181025T172332Z
SUMMARY:Girls Dive Conference Meet at Home
URL;VALUE=URI:https://www.hudsonvillepublicschools.org/rileystreet/athletic
 s/calendar/1896824/girls-dive-conference-meet-at-home
DTSTART:20181212T213000Z
DTEND:20181213T010000Z
END:VEVENT
END:VCALENDAR
