BEGIN:VCALENDAR
VERSION:2.0
PRODID:SchoolNow
CALSCALE:GREGORIAN
BEGIN:VEVENT
UID:23107646-d866-11e8-873c-0ad088066d1c
DTSTAMP:20181026T175318Z
SUMMARY:Girls Swim & Dive at Grandville
URL;VALUE=URI:https://www.hudsonvillepublicschools.org/rileystreet/athletic
 s/calendar/1896822/girls-swim-dive-at-gandville
DTSTART:20181206T210000Z
DTEND:20181206T230000Z
END:VEVENT
END:VCALENDAR
