BEGIN:VCALENDAR
VERSION:2.0
PRODID:SchoolNow
CALSCALE:GREGORIAN
BEGIN:VEVENT
UID:fb1b6088-d865-11e8-8c66-1267a7f19b60
DTSTAMP:20181025T172226Z
SUMMARY:Girls Swim & Dive at Grand Haven
URL;VALUE=URI:https://www.hudsonvillepublicschools.org/rileystreet/athletic
 s/calendar/1896821/girls-swim-dive-at-grand-haven
DTSTART:20181204T210000Z
DTEND:20181204T230000Z
END:VEVENT
END:VCALENDAR
