BEGIN:VCALENDAR
VERSION:2.0
PRODID:SchoolNow
CALSCALE:GREGORIAN
BEGIN:VEVENT
UID:cb49200c-d865-11e8-8a35-12da8cbed440
DTSTAMP:20181025T172136Z
SUMMARY:Girls Swim & Dive at East Kentwood
URL;VALUE=URI:https://www.hudsonvillepublicschools.org/rileystreet/athletic
 s/calendar/1896820/girls-swim-dive-at-east-kentwood
DTSTART:20181127T210000Z
DTEND:20181127T230000Z
END:VEVENT
END:VCALENDAR
