BEGIN:VCALENDAR
VERSION:2.0
PRODID:SchoolNow
CALSCALE:GREGORIAN
BEGIN:VEVENT
UID:8fc5dfc0-d865-11e8-9d66-12e966a19c0a
DTSTAMP:20181025T171947Z
SUMMARY:Girls Swim & Dive at Home vs. Northview
URL;VALUE=URI:https://www.hudsonvillepublicschools.org/rileystreet/athletic
 s/calendar/1896818/girls-swim-dive-at-home-vs-northview
DTSTART:20181113T210000Z
DTEND:20181113T230000Z
END:VEVENT
END:VCALENDAR
