BEGIN:VCALENDAR
VERSION:2.0
PRODID:SchoolNow
CALSCALE:GREGORIAN
BEGIN:VEVENT
UID:63fda5e4-d865-11e8-847a-12f4c2d2f558
DTSTAMP:20181025T171916Z
SUMMARY:Girls Swim & Dive at Home vs. West Ottawa
URL;VALUE=URI:https://www.hudsonvillepublicschools.org/rileystreet/athletic
 s/calendar/1896817/girls-swim-dive-at-home-vs-west-ottawa
DTSTART:20181112T210000Z
DTEND:20181112T230000Z
END:VEVENT
END:VCALENDAR
