BEGIN:VCALENDAR
VERSION:2.0
PRODID:SchoolNow
CALSCALE:GREGORIAN
BEGIN:VEVENT
UID:1b8da9da-d865-11e8-828c-0a2feaf0c8ec
DTSTAMP:20181025T171843Z
SUMMARY:Girls Swim & Dive at Rockford
URL;VALUE=URI:https://www.hudsonvillepublicschools.org/rileystreet/athletic
 s/calendar/1896814/girls-swim-dive-at-rockford
DTSTART:20181108T210000Z
DTEND:20181108T230000Z
END:VEVENT
END:VCALENDAR
