BEGIN:VCALENDAR
VERSION:2.0
PRODID:SchoolNow
CALSCALE:GREGORIAN
BEGIN:VEVENT
UID:e145753c-d864-11e8-a66d-12249f4c4860
DTSTAMP:20181025T171817Z
SUMMARY:Girls Swim & Dive at Home vs. Byron Center
URL;VALUE=URI:https://www.hudsonvillepublicschools.org/rileystreet/athletic
 s/calendar/1896813/girls-swim-dive-at-home-vs-byron-center
DTSTART:20181101T200000Z
DTEND:20181101T220000Z
END:VEVENT
END:VCALENDAR
