BEGIN:VCALENDAR
VERSION:2.0
PRODID:SchoolNow
CALSCALE:GREGORIAN
BEGIN:VEVENT
UID:b47f0b08-d864-11e8-930d-12249f4c4860
DTSTAMP:20181025T171755Z
SUMMARY:Girls Swim and Dive at Home vs Jenison
URL;VALUE=URI:https://www.hudsonvillepublicschools.org/rileystreet/athletic
 s/calendar/1896812/girls-swim-and-dive-at-home
DTSTART:20181030T200000Z
DTEND:20181030T220000Z
END:VEVENT
END:VCALENDAR
