BEGIN:VCALENDAR
VERSION:2.0
PRODID:SchoolNow
CALSCALE:GREGORIAN
BEGIN:VEVENT
UID:f728303e-d863-11e8-b0df-1216e3e76f96
DTSTAMP:20181025T182908Z
SUMMARY:Competitive Cheer Home Meet
URL;VALUE=URI:https://www.hudsonvillepublicschools.org/rileystreet/athletic
 s/calendar/1896811/competitive-cheer-home-meet
DTSTART:20190112T150000Z
DTEND:20190112T183000Z
END:VEVENT
END:VCALENDAR
