BEGIN:VCALENDAR
VERSION:2.0
PRODID:SchoolNow
CALSCALE:GREGORIAN
BEGIN:VEVENT
UID:94873d94-d863-11e8-b168-0a87fe369050
DTSTAMP:20181025T182714Z
SUMMARY:Competitive Cheer at West Ottawa Invitational
URL;VALUE=URI:https://www.hudsonvillepublicschools.org/rileystreet/athletic
 s/calendar/1896809/competitive-cheer-at-west-ottawa-invitational
DTSTART:20181215T150000Z
DTEND:20181215T183000Z
END:VEVENT
END:VCALENDAR
