BEGIN:VCALENDAR
VERSION:2.0
PRODID:SchoolNow
CALSCALE:GREGORIAN
BEGIN:VEVENT
UID:5268d3be-d863-11e8-aa43-0a87fe369050
DTSTAMP:20181025T182641Z
SUMMARY:Competitive Cheer at Jenison Invitational
URL;VALUE=URI:https://www.hudsonvillepublicschools.org/rileystreet/athletic
 s/calendar/1896808/competitive-cheer-at-jenison-invitational
DTSTART:20181208T150000Z
DTEND:20181208T183000Z
END:VEVENT
END:VCALENDAR
