BEGIN:VCALENDAR
VERSION:2.0
PRODID:SchoolNow
CALSCALE:GREGORIAN
BEGIN:VEVENT
UID:1e724c84-d863-11e8-9d1f-0af2bd7141e4
DTSTAMP:20181025T182607Z
SUMMARY:Competitive Cheer at Grandville Invitational
URL;VALUE=URI:https://www.hudsonvillepublicschools.org/rileystreet/athletic
 s/calendar/1896807/competitive-cheer-at-grandville-invitational
DTSTART:20181205T223000Z
DTEND:20181206T013000Z
END:VEVENT
END:VCALENDAR
