BEGIN:VCALENDAR
VERSION:2.0
PRODID:SchoolNow
CALSCALE:GREGORIAN
BEGIN:VEVENT
UID:980911d2-d862-11e8-a77c-1216e3e76f96
DTSTAMP:20181029T141138Z
SUMMARY:Competitive Cheer at Rockford Invitational
URL;VALUE=URI:https://www.hudsonvillepublicschools.org/rileystreet/athletic
 s/calendar/1896806/competitive-cheer-at-rockford-invitational
DTSTART:20181201T150000Z
DTEND:20181201T183000Z
END:VEVENT
END:VCALENDAR
