BEGIN:VCALENDAR
VERSION:2.0
PRODID:SchoolNow
CALSCALE:GREGORIAN
BEGIN:VEVENT
UID:2109ebda-d860-11e8-8c5f-0a2aedc3ed4c
DTSTAMP:20181025T170548Z
SUMMARY:Eagle Select Basketball at Grandville
URL;VALUE=URI:https://www.hudsonvillepublicschools.org/rileystreet/athletic
 s/calendar/1896793/eagle-select-basketball-at-grandville
DTSTART:20181217T210000Z
DTEND:20181217T233000Z
END:VEVENT
END:VCALENDAR
