BEGIN:VCALENDAR
VERSION:2.0
PRODID:SchoolNow
CALSCALE:GREGORIAN
BEGIN:VEVENT
UID:f888d590-d85f-11e8-ae29-0a7cc8ab82e8
DTSTAMP:20181025T170516Z
SUMMARY:Eagle Select Basketball at Byron Center
URL;VALUE=URI:https://www.hudsonvillepublicschools.org/rileystreet/athletic
 s/calendar/1896792/eagle-select-basketball-at-byron-center
DTSTART:20181212T210000Z
DTEND:20181212T233000Z
END:VEVENT
END:VCALENDAR
