BEGIN:VCALENDAR
VERSION:2.0
PRODID:SchoolNow
CALSCALE:GREGORIAN
BEGIN:VEVENT
UID:cbef9082-d85f-11e8-a62f-12b4b5898ca2
DTSTAMP:20181025T170419Z
SUMMARY:Eagle Select Basketball at West Ottawa
URL;VALUE=URI:https://www.hudsonvillepublicschools.org/rileystreet/athletic
 s/calendar/1896791/eagle-select-basketball-at-west-ottawa
DTSTART:20181203T210000Z
DTEND:20181203T233000Z
END:VEVENT
END:VCALENDAR
