BEGIN:VCALENDAR
VERSION:2.0
PRODID:SchoolNow
CALSCALE:GREGORIAN
BEGIN:VEVENT
UID:67d8e1de-d85f-11e8-8252-1246e3fa2a14
DTSTAMP:20181025T170445Z
SUMMARY:Eagle Select Basketball at Baldwin vs. Mona Shores
URL;VALUE=URI:https://www.hudsonvillepublicschools.org/rileystreet/athletic
 s/calendar/1896790/eagle-select-basketball-at-baldwin-vs-mona-shores
DTSTART:20181206T210000Z
DTEND:20181206T233000Z
END:VEVENT
END:VCALENDAR
