BEGIN:VCALENDAR
VERSION:2.0
PRODID:SchoolNow
CALSCALE:GREGORIAN
BEGIN:VEVENT
UID:32226416-d85f-11e8-bd10-0ad088066d1c
DTSTAMP:20181025T140858Z
SUMMARY:Eagle Select Basketball at Baldwin vs. Jenison
URL;VALUE=URI:https://www.hudsonvillepublicschools.org/rileystreet/athletic
 s/calendar/1896789/eagle-select-basketball-at-baldwin-vs-jenison
DTSTART:20181128T210000Z
DTEND:20181128T233000Z
END:VEVENT
END:VCALENDAR
