BEGIN:VCALENDAR
VERSION:2.0
PRODID:SchoolNow
CALSCALE:GREGORIAN
BEGIN:VEVENT
UID:f5689874-d85e-11e8-911f-0a87fe369050
DTSTAMP:20181025T170325Z
SUMMARY:Eagle Select Basketball at Reeths Puffer
URL;VALUE=URI:https://www.hudsonvillepublicschools.org/rileystreet/athletic
 s/calendar/1896788/eagle-select-basketball-at-reeths-puffer
DTSTART:20181126T210000Z
DTEND:20181126T233000Z
END:VEVENT
END:VCALENDAR
