BEGIN:VCALENDAR
VERSION:2.0
PRODID:SchoolNow
CALSCALE:GREGORIAN
BEGIN:VEVENT
UID:cf1bebb2-d85e-11e8-a76d-0a2aedc3ed4c
DTSTAMP:20181025T170219Z
SUMMARY:Eagle Select Basketball at Riley vs. Grand Haven
URL;VALUE=URI:https://www.hudsonvillepublicschools.org/rileystreet/athletic
 s/calendar/1896787/eagle-select-basketball-at-riley-vs-grand-haven
DTSTART:20181119T210000Z
DTEND:20181119T233000Z
END:VEVENT
END:VCALENDAR
