BEGIN:VCALENDAR
VERSION:2.0
PRODID:SchoolNow
CALSCALE:GREGORIAN
BEGIN:VEVENT
UID:9154da3c-d85e-11e8-b4d2-0a7cc8ab82e8
DTSTAMP:20181025T170137Z
SUMMARY:Eagle Select Basketball at Holland Christian
URL;VALUE=URI:https://www.hudsonvillepublicschools.org/rileystreet/athletic
 s/calendar/1896786/eagle-select-basketball-at-holland-christian
DTSTART:20181114T210000Z
DTEND:20181114T233000Z
END:VEVENT
END:VCALENDAR
