BEGIN:VCALENDAR
VERSION:2.0
PRODID:SchoolNow
CALSCALE:GREGORIAN
BEGIN:VEVENT
UID:69322906-d85e-11e8-8277-127544b4a598
DTSTAMP:20181025T170106Z
SUMMARY:Eagle Select Basketball at Riley vs. Holland
URL;VALUE=URI:https://www.hudsonvillepublicschools.org/rileystreet/athletic
 s/calendar/1896785/eagle-select-basketball-at-riley-vs-holland
DTSTART:20181113T210000Z
DTEND:20181113T230000Z
END:VEVENT
END:VCALENDAR
